BEGIN:VCALENDAR
VERSION:2.0
PRODID:-//KingCare - ECPv6.15.20//NONSGML v1.0//EN
CALSCALE:GREGORIAN
METHOD:PUBLISH
X-WR-CALNAME:KingCare
X-ORIGINAL-URL:https://kingchildcare.com
X-WR-CALDESC:Events for KingCare
REFRESH-INTERVAL;VALUE=DURATION:PT1H
X-Robots-Tag:noindex
X-PUBLISHED-TTL:PT1H
BEGIN:VTIMEZONE
TZID:America/Detroit
BEGIN:DAYLIGHT
TZOFFSETFROM:-0500
TZOFFSETTO:-0400
TZNAME:EDT
DTSTART:20250309T070000
END:DAYLIGHT
BEGIN:STANDARD
TZOFFSETFROM:-0400
TZOFFSETTO:-0500
TZNAME:EST
DTSTART:20251102T060000
END:STANDARD
BEGIN:DAYLIGHT
TZOFFSETFROM:-0500
TZOFFSETTO:-0400
TZNAME:EDT
DTSTART:20260308T070000
END:DAYLIGHT
BEGIN:STANDARD
TZOFFSETFROM:-0400
TZOFFSETTO:-0500
TZNAME:EST
DTSTART:20261101T060000
END:STANDARD
BEGIN:DAYLIGHT
TZOFFSETFROM:-0500
TZOFFSETTO:-0400
TZNAME:EDT
DTSTART:20270314T070000
END:DAYLIGHT
BEGIN:STANDARD
TZOFFSETFROM:-0400
TZOFFSETTO:-0500
TZNAME:EST
DTSTART:20271107T060000
END:STANDARD
END:VTIMEZONE
BEGIN:VEVENT
DTSTART;VALUE=DATE:20260608
DTEND;VALUE=DATE:20260610
DTSTAMP:20260423T162615
CREATED:20260126T031921Z
LAST-MODIFIED:20260301T003440Z
UID:216-1780876800-1781049599@kingchildcare.com
SUMMARY:Community\, Huron & Pioneer Semester Exams
DESCRIPTION:
URL:https://kingchildcare.com/event/community-huron-pioneer-semester-exams-2/
CATEGORIES:Ann Arbor Public Schools,Calendar
END:VEVENT
BEGIN:VEVENT
DTSTART;VALUE=DATE:20260609
DTEND;VALUE=DATE:20260610
DTSTAMP:20260423T162615
CREATED:20260126T032135Z
LAST-MODIFIED:20260301T003434Z
UID:224-1780963200-1781049599@kingchildcare.com
SUMMARY:Last Day of School for All Students - Half Day
DESCRIPTION:
URL:https://kingchildcare.com/event/last-day-of-school-for-all-students-half-day/
CATEGORIES:Ann Arbor Public Schools,Calendar
END:VEVENT
END:VCALENDAR