BEGIN:VCALENDAR
VERSION:2.0
PRODID:-//KingCare - ECPv6.15.20//NONSGML v1.0//EN
CALSCALE:GREGORIAN
METHOD:PUBLISH
X-WR-CALNAME:KingCare
X-ORIGINAL-URL:https://kingchildcare.com
X-WR-CALDESC:Events for KingCare
REFRESH-INTERVAL;VALUE=DURATION:PT1H
X-Robots-Tag:noindex
X-PUBLISHED-TTL:PT1H
BEGIN:VTIMEZONE
TZID:America/Detroit
BEGIN:DAYLIGHT
TZOFFSETFROM:-0500
TZOFFSETTO:-0400
TZNAME:EDT
DTSTART:20250309T070000
END:DAYLIGHT
BEGIN:STANDARD
TZOFFSETFROM:-0400
TZOFFSETTO:-0500
TZNAME:EST
DTSTART:20251102T060000
END:STANDARD
BEGIN:DAYLIGHT
TZOFFSETFROM:-0500
TZOFFSETTO:-0400
TZNAME:EDT
DTSTART:20260308T070000
END:DAYLIGHT
BEGIN:STANDARD
TZOFFSETFROM:-0400
TZOFFSETTO:-0500
TZNAME:EST
DTSTART:20261101T060000
END:STANDARD
BEGIN:DAYLIGHT
TZOFFSETFROM:-0500
TZOFFSETTO:-0400
TZNAME:EDT
DTSTART:20270314T070000
END:DAYLIGHT
BEGIN:STANDARD
TZOFFSETFROM:-0400
TZOFFSETTO:-0500
TZNAME:EST
DTSTART:20271107T060000
END:STANDARD
END:VTIMEZONE
BEGIN:VEVENT
DTSTART;VALUE=DATE:20260422
DTEND;VALUE=DATE:20260423
DTSTAMP:20260423T133946
CREATED:20260126T024740Z
LAST-MODIFIED:20260301T003726Z
UID:186-1776816000-1776902399@kingchildcare.com
SUMMARY:Think Green - Earth Day
DESCRIPTION:
URL:https://kingchildcare.com/event/think-green-earth-day/
CATEGORIES:Calendar,KingCare Events
ATTACH;FMTTYPE=image/jpeg:https://kingchildcare.com/wp-content/uploads/2026/01/heart-7902540_1280.jpg
END:VEVENT
END:VCALENDAR