BEGIN:VCALENDAR
VERSION:2.0
PRODID:-//KingCare - ECPv6.15.20//NONSGML v1.0//EN
CALSCALE:GREGORIAN
METHOD:PUBLISH
X-ORIGINAL-URL:https://kingchildcare.com
X-WR-CALDESC:Events for KingCare
REFRESH-INTERVAL;VALUE=DURATION:PT1H
X-Robots-Tag:noindex
X-PUBLISHED-TTL:PT1H
BEGIN:VTIMEZONE
TZID:America/Detroit
BEGIN:DAYLIGHT
TZOFFSETFROM:-0500
TZOFFSETTO:-0400
TZNAME:EDT
DTSTART:20250309T070000
END:DAYLIGHT
BEGIN:STANDARD
TZOFFSETFROM:-0400
TZOFFSETTO:-0500
TZNAME:EST
DTSTART:20251102T060000
END:STANDARD
BEGIN:DAYLIGHT
TZOFFSETFROM:-0500
TZOFFSETTO:-0400
TZNAME:EDT
DTSTART:20260308T070000
END:DAYLIGHT
BEGIN:STANDARD
TZOFFSETFROM:-0400
TZOFFSETTO:-0500
TZNAME:EST
DTSTART:20261101T060000
END:STANDARD
BEGIN:DAYLIGHT
TZOFFSETFROM:-0500
TZOFFSETTO:-0400
TZNAME:EDT
DTSTART:20270314T070000
END:DAYLIGHT
BEGIN:STANDARD
TZOFFSETFROM:-0400
TZOFFSETTO:-0500
TZNAME:EST
DTSTART:20271107T060000
END:STANDARD
BEGIN:DAYLIGHT
TZOFFSETFROM:-0500
TZOFFSETTO:-0400
TZNAME:EDT
DTSTART:20280312T070000
END:DAYLIGHT
BEGIN:STANDARD
TZOFFSETFROM:-0400
TZOFFSETTO:-0500
TZNAME:EST
DTSTART:20281105T060000
END:STANDARD
END:VTIMEZONE
BEGIN:VEVENT
DTSTART;VALUE=DATE:20260211
DTEND;VALUE=DATE:20260212
DTSTAMP:20260423T174117
CREATED:20260212T024241Z
LAST-MODIFIED:20260301T003755Z
UID:182-1770768000-1770854399@kingchildcare.com
SUMMARY:Space Science Assembly
DESCRIPTION:
URL:https://kingchildcare.com/event/space-science/
CATEGORIES:Calendar,KingCare Events
ATTACH;FMTTYPE=image/jpeg:https://kingchildcare.com/wp-content/uploads/2026/01/milky-way-67504_1280.jpg
END:VEVENT
BEGIN:VEVENT
DTSTART;VALUE=DATE:20260213
DTEND;VALUE=DATE:20260217
DTSTAMP:20260423T174117
CREATED:20260126T025932Z
LAST-MODIFIED:20260301T003750Z
UID:192-1770940800-1771286399@kingchildcare.com
SUMMARY:Mid-Winter Break NO SCHOOL
DESCRIPTION:
URL:https://kingchildcare.com/event/no-school-for-students-staff-mid-winter-break/
CATEGORIES:Ann Arbor Public Schools,Calendar
END:VEVENT
BEGIN:VEVENT
DTSTART;VALUE=DATE:20260310
DTEND;VALUE=DATE:20260311
DTSTAMP:20260423T174117
CREATED:20260126T031334Z
LAST-MODIFIED:20260301T003744Z
UID:196-1773100800-1773187199@kingchildcare.com
SUMMARY:Early Release Day NO KINGCARE
DESCRIPTION:
URL:https://kingchildcare.com/event/elem-k-8-middle-school-half-day-report-writing-high-school-students-attend-full-day-of-school/
CATEGORIES:Ann Arbor Public Schools,Calendar
END:VEVENT
BEGIN:VEVENT
DTSTART;VALUE=DATE:20260324
DTEND;VALUE=DATE:20260325
DTSTAMP:20260423T174117
CREATED:20260126T024546Z
LAST-MODIFIED:20260301T003738Z
UID:184-1774310400-1774396799@kingchildcare.com
SUMMARY:Joel Tracy Magic Show
DESCRIPTION:
URL:https://kingchildcare.com/event/joel-tracy-magic-show/
CATEGORIES:Calendar,KingCare Events
ATTACH;FMTTYPE=image/jpeg:https://kingchildcare.com/wp-content/uploads/2026/01/magic-1469121_1920.jpg
END:VEVENT
BEGIN:VEVENT
DTSTART;VALUE=DATE:20260330
DTEND;VALUE=DATE:20260404
DTSTAMP:20260423T174117
CREATED:20260126T031411Z
LAST-MODIFIED:20260301T003732Z
UID:198-1774828800-1775260799@kingchildcare.com
SUMMARY:Spring Break NO SCHOOL
DESCRIPTION:
URL:https://kingchildcare.com/event/no-school-for-students-staff-spring-break/
CATEGORIES:Ann Arbor Public Schools,Calendar
END:VEVENT
BEGIN:VEVENT
DTSTART;VALUE=DATE:20260422
DTEND;VALUE=DATE:20260423
DTSTAMP:20260423T174117
CREATED:20260126T024740Z
LAST-MODIFIED:20260301T003726Z
UID:186-1776816000-1776902399@kingchildcare.com
SUMMARY:Think Green - Earth Day
DESCRIPTION:
URL:https://kingchildcare.com/event/think-green-earth-day/
CATEGORIES:Calendar,KingCare Events
ATTACH;FMTTYPE=image/jpeg:https://kingchildcare.com/wp-content/uploads/2026/01/heart-7902540_1280.jpg
END:VEVENT
BEGIN:VEVENT
DTSTART;VALUE=DATE:20260501
DTEND;VALUE=DATE:20260502
DTSTAMP:20260423T174117
CREATED:20260126T024817Z
LAST-MODIFIED:20260301T003717Z
UID:188-1777593600-1777679999@kingchildcare.com
SUMMARY:Chamberlin Petting Zoo
DESCRIPTION:
URL:https://kingchildcare.com/event/chamberlin-petting-zoo/
CATEGORIES:Calendar,KingCare Events
ATTACH;FMTTYPE=image/jpeg:https://kingchildcare.com/wp-content/uploads/2026/01/goat-1438254_1280.jpg
END:VEVENT
BEGIN:VEVENT
DTSTART;VALUE=DATE:20260505
DTEND;VALUE=DATE:20260506
DTSTAMP:20260423T174117
CREATED:20260126T031657Z
LAST-MODIFIED:20260301T003709Z
UID:208-1777939200-1778025599@kingchildcare.com
SUMMARY:NO SCHOOL Election Day
DESCRIPTION:
URL:https://kingchildcare.com/event/no-school-for-students-staff-pd-election-day/
CATEGORIES:Ann Arbor Public Schools,Calendar
END:VEVENT
BEGIN:VEVENT
DTSTART;VALUE=DATE:20260514
DTEND;VALUE=DATE:20260515
DTSTAMP:20260423T174117
CREATED:20260126T031729Z
LAST-MODIFIED:20260301T003703Z
UID:210-1778716800-1778803199@kingchildcare.com
SUMMARY:Early Release Day - NO KINGCARE
DESCRIPTION:
URL:https://kingchildcare.com/event/elem-middle-high-school-full-day-of-school/
CATEGORIES:Ann Arbor Public Schools,Calendar
END:VEVENT
BEGIN:VEVENT
DTSTART;VALUE=DATE:20260525
DTEND;VALUE=DATE:20260526
DTSTAMP:20260423T174117
CREATED:20260126T031759Z
LAST-MODIFIED:20260301T003656Z
UID:212-1779667200-1779753599@kingchildcare.com
SUMMARY:No School for Students & Staff (Memorial Day)
DESCRIPTION:
URL:https://kingchildcare.com/event/no-school-for-students-staff-memorial-day/
CATEGORIES:Ann Arbor Public Schools,Calendar
END:VEVENT
BEGIN:VEVENT
DTSTART;VALUE=DATE:20260604
DTEND;VALUE=DATE:20260606
DTSTAMP:20260423T174117
CREATED:20260126T031837Z
LAST-MODIFIED:20260301T003648Z
UID:214-1780531200-1780703999@kingchildcare.com
SUMMARY:Community\, Huron & Pioneer Semester Exams
DESCRIPTION:
URL:https://kingchildcare.com/event/community-huron-pioneer-semester-exams/
CATEGORIES:Ann Arbor Public Schools,Calendar
END:VEVENT
BEGIN:VEVENT
DTSTART;VALUE=DATE:20260605
DTEND;VALUE=DATE:20260606
DTSTAMP:20260423T174117
CREATED:20260126T031954Z
LAST-MODIFIED:20260301T003643Z
UID:218-1780617600-1780703999@kingchildcare.com
SUMMARY:Pathways & Skyline Trimester Exams
DESCRIPTION:
URL:https://kingchildcare.com/event/pathways-skyline-trimester-exams-2/
CATEGORIES:Ann Arbor Public Schools,Calendar
END:VEVENT
BEGIN:VEVENT
DTSTART;VALUE=DATE:20260608
DTEND;VALUE=DATE:20260609
DTSTAMP:20260423T174117
CREATED:20260126T032025Z
LAST-MODIFIED:20260301T003636Z
UID:220-1780876800-1780963199@kingchildcare.com
SUMMARY:Pathways & Skyline Trimester Exams
DESCRIPTION:
URL:https://kingchildcare.com/event/pathways-skyline-trimester-exams-3/
CATEGORIES:Ann Arbor Public Schools,Calendar
END:VEVENT
BEGIN:VEVENT
DTSTART;VALUE=DATE:20260608
DTEND;VALUE=DATE:20260609
DTSTAMP:20260423T174117
CREATED:20260126T032057Z
LAST-MODIFIED:20260301T003446Z
UID:222-1780876800-1780963199@kingchildcare.com
SUMMARY:Half day for Middle School Students (MS/HS Exam Grading/Report Writing)
DESCRIPTION:
URL:https://kingchildcare.com/event/half-day-for-middle-school-students-ms-hs-exam-grading-report-writing/
CATEGORIES:Ann Arbor Public Schools,Calendar
END:VEVENT
BEGIN:VEVENT
DTSTART;VALUE=DATE:20260608
DTEND;VALUE=DATE:20260610
DTSTAMP:20260423T174117
CREATED:20260126T031921Z
LAST-MODIFIED:20260301T003440Z
UID:216-1780876800-1781049599@kingchildcare.com
SUMMARY:Community\, Huron & Pioneer Semester Exams
DESCRIPTION:
URL:https://kingchildcare.com/event/community-huron-pioneer-semester-exams-2/
CATEGORIES:Ann Arbor Public Schools,Calendar
END:VEVENT
BEGIN:VEVENT
DTSTART;VALUE=DATE:20260609
DTEND;VALUE=DATE:20260610
DTSTAMP:20260423T174117
CREATED:20260126T032135Z
LAST-MODIFIED:20260301T003434Z
UID:224-1780963200-1781049599@kingchildcare.com
SUMMARY:Last Day of School for All Students - Half Day
DESCRIPTION:
URL:https://kingchildcare.com/event/last-day-of-school-for-all-students-half-day/
CATEGORIES:Ann Arbor Public Schools,Calendar
END:VEVENT
BEGIN:VEVENT
DTSTART;VALUE=DATE:20260831
DTEND;VALUE=DATE:20260901
DTSTAMP:20260423T174117
CREATED:20260126T032313Z
LAST-MODIFIED:20260301T003427Z
UID:226-1788134400-1788220799@kingchildcare.com
SUMMARY:First Day of School for Students - Half Day of School
DESCRIPTION:
URL:https://kingchildcare.com/event/first-day-of-school-for-students-half-day-of-school/
CATEGORIES:Ann Arbor Public Schools,Calendar
END:VEVENT
BEGIN:VEVENT
DTSTART;VALUE=DATE:20260904
DTEND;VALUE=DATE:20260908
DTSTAMP:20260423T174117
CREATED:20260126T032342Z
LAST-MODIFIED:20260301T003423Z
UID:228-1788480000-1788825599@kingchildcare.com
SUMMARY:No School for Students & Staff (Labor Day Holiday Break)
DESCRIPTION:
URL:https://kingchildcare.com/event/no-school-for-students-staff-labor-day-holiday-break/
CATEGORIES:Ann Arbor Public Schools,Calendar
END:VEVENT
BEGIN:VEVENT
DTSTART;VALUE=DATE:20260928
DTEND;VALUE=DATE:20260929
DTSTAMP:20260423T174117
CREATED:20260126T032415Z
LAST-MODIFIED:20260301T003419Z
UID:230-1790553600-1790639999@kingchildcare.com
SUMMARY:NO SCHOOL
DESCRIPTION:
URL:https://kingchildcare.com/event/no-school-for-students-staff-pd/
CATEGORIES:Ann Arbor Public Schools,Calendar
END:VEVENT
BEGIN:VEVENT
DTSTART;VALUE=DATE:20261009
DTEND;VALUE=DATE:20261013
DTSTAMP:20260423T174117
CREATED:20260126T032606Z
LAST-MODIFIED:20260301T003413Z
UID:234-1791504000-1791849599@kingchildcare.com
SUMMARY:NO SCHOOL - Early Fall Break
DESCRIPTION:
URL:https://kingchildcare.com/event/no-school-for-students-staff-early-fall-break/
CATEGORIES:Ann Arbor Public Schools,Calendar
END:VEVENT
BEGIN:VEVENT
DTSTART;VALUE=DATE:20261030
DTEND;VALUE=DATE:20261031
DTSTAMP:20260423T174117
CREATED:20260126T032634Z
LAST-MODIFIED:20260301T003402Z
UID:236-1793318400-1793404799@kingchildcare.com
SUMMARY:Half Day of School
DESCRIPTION:
URL:https://kingchildcare.com/event/elem-k-8-middle-school-half-day-report-writing-high-school-students-attend-full-day-of-school-2/
CATEGORIES:Ann Arbor Public Schools,Calendar
END:VEVENT
BEGIN:VEVENT
DTSTART;VALUE=DATE:20261103
DTEND;VALUE=DATE:20261104
DTSTAMP:20260423T174117
CREATED:20260126T032712Z
LAST-MODIFIED:20260301T003355Z
UID:238-1793664000-1793750399@kingchildcare.com
SUMMARY:NO SCHOOL - Election Day
DESCRIPTION:
URL:https://kingchildcare.com/event/no-school-for-students-staff-election-day/
CATEGORIES:Ann Arbor Public Schools,Calendar
END:VEVENT
BEGIN:VEVENT
DTSTART;VALUE=DATE:20261125
DTEND;VALUE=DATE:20261128
DTSTAMP:20260423T174117
CREATED:20260126T040323Z
LAST-MODIFIED:20260301T003348Z
UID:242-1795564800-1795823999@kingchildcare.com
SUMMARY:NO SCHOOL - Late Fall Break
DESCRIPTION:
URL:https://kingchildcare.com/event/no-school-for-students-staff-late-fall-break/
CATEGORIES:Ann Arbor Public Schools,Calendar
END:VEVENT
BEGIN:VEVENT
DTSTART;VALUE=DATE:20261209
DTEND;VALUE=DATE:20261210
DTSTAMP:20260423T174117
CREATED:20260126T040351Z
LAST-MODIFIED:20260301T003339Z
UID:244-1796774400-1796860799@kingchildcare.com
SUMMARY:NO SCHOOL
DESCRIPTION:
URL:https://kingchildcare.com/event/no-school-for-students-staff-pd-2/
CATEGORIES:Ann Arbor Public Schools,Calendar
END:VEVENT
BEGIN:VEVENT
DTSTART;VALUE=DATE:20261221
DTEND;VALUE=DATE:20270102
DTSTAMP:20260423T174117
CREATED:20260126T040422Z
LAST-MODIFIED:20260301T003334Z
UID:246-1797811200-1798847999@kingchildcare.com
SUMMARY:NO SCHOOL - Winter Break
DESCRIPTION:
URL:https://kingchildcare.com/event/no-school-for-students-staff-winter-break/
CATEGORIES:Ann Arbor Public Schools,Calendar
END:VEVENT
BEGIN:VEVENT
DTSTART;VALUE=DATE:20270118
DTEND;VALUE=DATE:20270119
DTSTAMP:20260423T174117
CREATED:20260126T040446Z
LAST-MODIFIED:20260301T003330Z
UID:248-1800230400-1800316799@kingchildcare.com
SUMMARY:NO SCHOOL - MLK Day
DESCRIPTION:
URL:https://kingchildcare.com/event/no-school-for-students-staff-mlk-day/
CATEGORIES:Ann Arbor Public Schools,Calendar
END:VEVENT
BEGIN:VEVENT
DTSTART;VALUE=DATE:20270212
DTEND;VALUE=DATE:20270216
DTSTAMP:20260423T174117
CREATED:20260126T041104Z
LAST-MODIFIED:20260301T003324Z
UID:254-1802390400-1802735999@kingchildcare.com
SUMMARY:NO SCHOOL - Mid-Winter Break
DESCRIPTION:
URL:https://kingchildcare.com/event/no-school-for-students-staff-mid-winter-break-2/
CATEGORIES:Ann Arbor Public Schools,Calendar
END:VEVENT
BEGIN:VEVENT
DTSTART;VALUE=DATE:20270304
DTEND;VALUE=DATE:20270305
DTSTAMP:20260423T174117
CREATED:20260126T041550Z
LAST-MODIFIED:20260301T003317Z
UID:270-1804118400-1804204799@kingchildcare.com
SUMMARY:NO SCHOOL - Election Day
DESCRIPTION:
URL:https://kingchildcare.com/event/no-school-for-students-staff-pd-election-day-2/
CATEGORIES:Ann Arbor Public Schools,Calendar
END:VEVENT
BEGIN:VEVENT
DTSTART;VALUE=DATE:20270326
DTEND;VALUE=DATE:20270403
DTSTAMP:20260423T174117
CREATED:20260126T041313Z
LAST-MODIFIED:20260301T003312Z
UID:260-1806019200-1806710399@kingchildcare.com
SUMMARY:NO SCHOOL - Spring Break
DESCRIPTION:
URL:https://kingchildcare.com/event/no-school-for-students-staff-spring-break-2/
CATEGORIES:Ann Arbor Public Schools,Calendar
END:VEVENT
BEGIN:VEVENT
DTSTART;VALUE=DATE:20270426
DTEND;VALUE=DATE:20270427
DTSTAMP:20260423T174117
CREATED:20260126T041455Z
LAST-MODIFIED:20260301T003307Z
UID:266-1808697600-1808783999@kingchildcare.com
SUMMARY:Early Release for High School Students NO KINGCARE
DESCRIPTION:
URL:https://kingchildcare.com/event/transition-day-for-8th-grade-early-release-for-high-school-students/
CATEGORIES:Ann Arbor Public Schools,Calendar
END:VEVENT
END:VCALENDAR